Package: CoRegNet Version: 1.38.0 Command: /Library/Frameworks/R.framework/Resources/bin/R CMD check --install=check:CoRegNet.install-out.txt --library=/Library/Frameworks/R.framework/Resources/library --no-vignettes --timings CoRegNet_1.38.0.tar.gz StartedAt: 2023-10-16 00:13:58 -0400 (Mon, 16 Oct 2023) EndedAt: 2023-10-16 00:17:53 -0400 (Mon, 16 Oct 2023) EllapsedTime: 235.0 seconds RetCode: 0 Status: WARNINGS CheckDir: CoRegNet.Rcheck Warnings: 1