Package: CoRegNet Version: 1.38.0 Command: /home/biocbuild/bbs-3.17-bioc/R/bin/R CMD build --keep-empty-dirs --no-resave-data CoRegNet StartedAt: 2023-10-15 16:25:55 -0400 (Sun, 15 Oct 2023) EndedAt: 2023-10-15 16:26:09 -0400 (Sun, 15 Oct 2023) EllapsedTime: 13.3 seconds RetCode: 0 Status: OK PackageFile: CoRegNet_1.38.0.tar.gz PackageFileSize: 4.876 MiB