Package: CoRegNet Version: 1.38.0 Command: /home/biocbuild/bbs-3.17-bioc/R/bin/R CMD check --install=check:CoRegNet.install-out.txt --library=/home/biocbuild/bbs-3.17-bioc/R/site-library --timings CoRegNet_1.38.0.tar.gz StartedAt: 2023-10-15 20:21:57 -0400 (Sun, 15 Oct 2023) EndedAt: 2023-10-15 20:23:28 -0400 (Sun, 15 Oct 2023) EllapsedTime: 91.0 seconds RetCode: 1 Status: ERROR CheckDir: CoRegNet.Rcheck Warnings: NA