Package: Cogito Version: 1.6.0 Command: rm -rf Cogito.buildbin-libdir && mkdir Cogito.buildbin-libdir && /Users/biocbuild/BBS/utils/build-universal.sh Cogito_1.6.0.tar.gz /Library/Frameworks/R.framework/Resources/bin/R Cogito.buildbin-libdir StartedAt: 2023-10-16 09:11:09 -0400 (Mon, 16 Oct 2023) EndedAt: 2023-10-16 09:13:06 -0400 (Mon, 16 Oct 2023) EllapsedTime: 116.5 seconds RetCode: 0 Status: OK PackageFile: Cogito_1.6.0.tgz PackageFileSize: 1.246 MiB