Package: Cogito Version: 1.6.0 Command: /Library/Frameworks/R.framework/Resources/bin/R CMD build --keep-empty-dirs --no-resave-data Cogito StartedAt: 2023-10-15 17:33:21 -0400 (Sun, 15 Oct 2023) EndedAt: 2023-10-15 17:36:07 -0400 (Sun, 15 Oct 2023) EllapsedTime: 165.3 seconds RetCode: 0 Status: OK PackageFile: Cogito_1.6.0.tar.gz PackageFileSize: 869 KiB