Package: ConsensusClusterPlus Version: 1.64.0 Command: F:\biocbuild\bbs-3.17-bioc\R\bin\R.exe CMD INSTALL ConsensusClusterPlus StartedAt: 2023-10-15 15:52:03 -0400 (Sun, 15 Oct 2023) EndedAt: 2023-10-15 15:52:11 -0400 (Sun, 15 Oct 2023) EllapsedTime: 8.3 seconds RetCode: 0 Status: OK