Package: CytoPipeline Version: 1.0.2 Command: rm -rf CytoPipeline.buildbin-libdir && mkdir CytoPipeline.buildbin-libdir && F:\biocbuild\bbs-3.17-bioc\R\bin\R.exe CMD INSTALL --build --library=CytoPipeline.buildbin-libdir CytoPipeline_1.0.2.tar.gz StartedAt: 2023-10-16 08:39:51 -0400 (Mon, 16 Oct 2023) EndedAt: 2023-10-16 08:40:15 -0400 (Mon, 16 Oct 2023) EllapsedTime: 24.1 seconds RetCode: 0 Status: OK PackageFile: CytoPipeline_1.0.2.zip PackageFileSize: 2.606 MiB