Package: DEP Version: 1.22.0 Command: rm -rf DEP.buildbin-libdir && mkdir DEP.buildbin-libdir && /Users/biocbuild/BBS/utils/build-universal.sh DEP_1.22.0.tar.gz /Library/Frameworks/R.framework/Resources/bin/R DEP.buildbin-libdir StartedAt: 2023-10-16 09:16:27 -0400 (Mon, 16 Oct 2023) EndedAt: 2023-10-16 09:18:16 -0400 (Mon, 16 Oct 2023) EllapsedTime: 108.5 seconds RetCode: 0 Status: OK PackageFile: DEP_1.22.0.tgz PackageFileSize: 3.999 MiB