Package: DEXSeq Version: 1.46.1 Command: chmod a+r DEXSeq -R && F:\biocbuild\bbs-3.17-bioc\R\bin\R.exe CMD build --keep-empty-dirs --no-resave-data DEXSeq StartedAt: 2023-10-15 18:43:54 -0400 (Sun, 15 Oct 2023) EndedAt: 2023-10-15 18:46:22 -0400 (Sun, 15 Oct 2023) EllapsedTime: 148.2 seconds RetCode: 0 Status: OK PackageFile: DEXSeq_1.46.1.tar.gz PackageFileSize: 581.8 KiB