Package: DEXSeq Version: 1.46.1 Command: F:\biocbuild\bbs-3.17-bioc\R\bin\R.exe CMD INSTALL DEXSeq StartedAt: 2023-10-15 16:46:20 -0400 (Sun, 15 Oct 2023) EndedAt: 2023-10-15 16:47:01 -0400 (Sun, 15 Oct 2023) EllapsedTime: 41.1 seconds RetCode: 0 Status: OK