Package: DFP Version: 1.58.0 Command: chmod a+r DFP -R && F:\biocbuild\bbs-3.17-bioc\R\bin\R.exe CMD build --keep-empty-dirs --no-resave-data DFP StartedAt: 2023-10-15 18:44:24 -0400 (Sun, 15 Oct 2023) EndedAt: 2023-10-15 18:44:37 -0400 (Sun, 15 Oct 2023) EllapsedTime: 14.0 seconds RetCode: 0 Status: OK PackageFile: DFP_1.58.0.tar.gz PackageFileSize: 355.2 KiB