Package: DMRScan Version: 1.22.0 Command: rm -rf DMRScan.buildbin-libdir && mkdir DMRScan.buildbin-libdir && /Users/biocbuild/BBS/utils/build-universal.sh DMRScan_1.22.0.tar.gz /Library/Frameworks/R.framework/Resources/bin/R DMRScan.buildbin-libdir StartedAt: 2023-10-16 09:18:28 -0400 (Mon, 16 Oct 2023) EndedAt: 2023-10-16 09:19:24 -0400 (Mon, 16 Oct 2023) EllapsedTime: 56.7 seconds RetCode: 0 Status: OK PackageFile: DMRScan_1.22.0.tgz PackageFileSize: 5.083 MiB