Package: DMRcaller Version: 1.32.0 Command: F:\biocbuild\bbs-3.17-bioc\R\bin\R.exe CMD check --no-multiarch --install=check:DMRcaller.install-out.txt --library=F:\biocbuild\bbs-3.17-bioc\R\library --no-vignettes --timings DMRcaller_1.32.0.tar.gz StartedAt: 2023-10-16 01:36:17 -0400 (Mon, 16 Oct 2023) EndedAt: 2023-10-16 01:39:56 -0400 (Mon, 16 Oct 2023) EllapsedTime: 218.8 seconds RetCode: 0 Status: OK CheckDir: DMRcaller.Rcheck Warnings: 0