Package: DNABarcodes Version: 1.30.0 Command: /home/biocbuild/bbs-3.17-bioc/R/bin/R CMD build --keep-empty-dirs --no-resave-data DNABarcodes StartedAt: 2023-10-15 16:38:51 -0400 (Sun, 15 Oct 2023) EndedAt: 2023-10-15 16:40:37 -0400 (Sun, 15 Oct 2023) EllapsedTime: 105.9 seconds RetCode: 0 Status: OK PackageFile: DNABarcodes_1.30.0.tar.gz PackageFileSize: 347.7 KiB