Package: DegNorm Version: 1.10.1 Command: /Library/Frameworks/R.framework/Resources/bin/R CMD check --install=check:DegNorm.install-out.txt --library=/Library/Frameworks/R.framework/Resources/library --no-vignettes --timings DegNorm_1.10.1.tar.gz StartedAt: 2023-10-16 00:43:13 -0400 (Mon, 16 Oct 2023) EndedAt: 2023-10-16 00:58:39 -0400 (Mon, 16 Oct 2023) EllapsedTime: 925.8 seconds RetCode: 0 Status: OK CheckDir: DegNorm.Rcheck Warnings: 0