Package: DegNorm Version: 1.10.1 Command: F:\biocbuild\bbs-3.17-bioc\R\bin\R.exe CMD check --no-multiarch --install=check:DegNorm.install-out.txt --library=F:\biocbuild\bbs-3.17-bioc\R\library --no-vignettes --timings DegNorm_1.10.1.tar.gz StartedAt: 2023-10-16 01:19:35 -0400 (Mon, 16 Oct 2023) EndedAt: 2023-10-16 01:25:54 -0400 (Mon, 16 Oct 2023) EllapsedTime: 379.7 seconds RetCode: 0 Status: OK CheckDir: DegNorm.Rcheck Warnings: 0