Package: DiffBind Version: 3.10.1 Command: /home/biocbuild/bbs-3.17-bioc/R/bin/R CMD check --install=check:DiffBind.install-out.txt --library=/home/biocbuild/bbs-3.17-bioc/R/site-library --timings DiffBind_3.10.1.tar.gz StartedAt: 2023-10-15 20:49:27 -0400 (Sun, 15 Oct 2023) EndedAt: 2023-10-15 21:03:05 -0400 (Sun, 15 Oct 2023) EllapsedTime: 817.6 seconds RetCode: 0 Status: WARNINGS CheckDir: DiffBind.Rcheck Warnings: 1