Package: DominoEffect Version: 1.20.1 Command: chmod a+r DominoEffect -R && F:\biocbuild\bbs-3.17-bioc\R\bin\R.exe CMD build --keep-empty-dirs --no-resave-data DominoEffect StartedAt: 2023-10-15 18:49:18 -0400 (Sun, 15 Oct 2023) EndedAt: 2023-10-15 18:50:26 -0400 (Sun, 15 Oct 2023) EllapsedTime: 67.9 seconds RetCode: 0 Status: OK PackageFile: DominoEffect_1.20.1.tar.gz PackageFileSize: 473.3 KiB