Package: Doscheda Version: 1.22.0 Command: /Library/Frameworks/R.framework/Resources/bin/R CMD build --keep-empty-dirs --no-resave-data Doscheda StartedAt: 2023-10-15 18:03:02 -0400 (Sun, 15 Oct 2023) EndedAt: 2023-10-15 18:05:23 -0400 (Sun, 15 Oct 2023) EllapsedTime: 140.9 seconds RetCode: 0 Status: OK PackageFile: Doscheda_1.22.0.tar.gz PackageFileSize: 3.705 MiB