Package: EDASeq Version: 2.34.0 Command: /home/biocbuild/bbs-3.17-bioc/R/bin/R CMD build --keep-empty-dirs --no-resave-data EDASeq StartedAt: 2023-10-15 16:40:47 -0400 (Sun, 15 Oct 2023) EndedAt: 2023-10-15 16:41:59 -0400 (Sun, 15 Oct 2023) EllapsedTime: 72.2 seconds RetCode: 0 Status: OK PackageFile: EDASeq_2.34.0.tar.gz PackageFileSize: 1012 KiB