Package: EDASeq Version: 2.34.0 Command: /home/biocbuild/bbs-3.17-bioc/R/bin/R CMD check --install=check:EDASeq.install-out.txt --library=/home/biocbuild/bbs-3.17-bioc/R/site-library --timings EDASeq_2.34.0.tar.gz StartedAt: 2023-10-15 21:01:58 -0400 (Sun, 15 Oct 2023) EndedAt: 2023-10-15 21:06:54 -0400 (Sun, 15 Oct 2023) EllapsedTime: 296.1 seconds RetCode: 0 Status: OK CheckDir: EDASeq.Rcheck Warnings: 0