Package: EDASeq Version: 2.34.0 Command: rm -rf EDASeq.buildbin-libdir && mkdir EDASeq.buildbin-libdir && F:\biocbuild\bbs-3.17-bioc\R\bin\R.exe CMD INSTALL --build --library=EDASeq.buildbin-libdir EDASeq_2.34.0.tar.gz StartedAt: 2023-10-16 08:44:37 -0400 (Mon, 16 Oct 2023) EndedAt: 2023-10-16 08:45:28 -0400 (Mon, 16 Oct 2023) EllapsedTime: 51.0 seconds RetCode: 0 Status: OK PackageFile: EDASeq_2.34.0.zip PackageFileSize: 820.4 KiB