Package: EDASeq Version: 2.34.0 Command: F:\biocbuild\bbs-3.17-bioc\R\bin\R.exe CMD INSTALL EDASeq StartedAt: 2023-10-15 16:19:17 -0400 (Sun, 15 Oct 2023) EndedAt: 2023-10-15 16:20:07 -0400 (Sun, 15 Oct 2023) EllapsedTime: 49.6 seconds RetCode: 0 Status: OK