Package: EDIRquery Version: 1.0.0 Command: /home/biocbuild/bbs-3.17-bioc/R/bin/R CMD build --keep-empty-dirs --no-resave-data EDIRquery StartedAt: 2023-10-15 16:40:59 -0400 (Sun, 15 Oct 2023) EndedAt: 2023-10-15 16:41:33 -0400 (Sun, 15 Oct 2023) EllapsedTime: 33.8 seconds RetCode: 0 Status: OK PackageFile: EDIRquery_1.0.0.tar.gz PackageFileSize: 1.377 MiB