Package: EDIRquery Version: 1.0.0 Command: rm -rf EDIRquery.buildbin-libdir && mkdir EDIRquery.buildbin-libdir && F:\biocbuild\bbs-3.17-bioc\R\bin\R.exe CMD INSTALL --build --library=EDIRquery.buildbin-libdir EDIRquery_1.0.0.tar.gz StartedAt: 2023-10-16 08:44:44 -0400 (Mon, 16 Oct 2023) EndedAt: 2023-10-16 08:45:11 -0400 (Mon, 16 Oct 2023) EllapsedTime: 27.8 seconds RetCode: 0 Status: OK PackageFile: EDIRquery_1.0.0.zip PackageFileSize: 1.692 MiB