Package: ELMER Version: 2.24.1 Command: /Library/Frameworks/R.framework/Resources/bin/R CMD build --keep-empty-dirs --no-resave-data ELMER StartedAt: 2023-10-15 18:08:05 -0400 (Sun, 15 Oct 2023) EndedAt: 2023-10-15 18:19:09 -0400 (Sun, 15 Oct 2023) EllapsedTime: 663.3 seconds RetCode: 1 Status: ERROR PackageFile: None PackageFileSize: NA