Package: EMDomics Version: 2.30.0 Command: /home/biocbuild/bbs-3.17-bioc/R/bin/R CMD build --keep-empty-dirs --no-resave-data EMDomics StartedAt: 2023-10-15 16:41:26 -0400 (Sun, 15 Oct 2023) EndedAt: 2023-10-15 16:41:39 -0400 (Sun, 15 Oct 2023) EllapsedTime: 12.9 seconds RetCode: 0 Status: OK PackageFile: EMDomics_2.30.0.tar.gz PackageFileSize: 252.7 KiB