Package: EnhancedVolcano Version: 1.18.0 Command: /home/biocbuild/bbs-3.17-bioc/R/bin/R CMD build --keep-empty-dirs --no-resave-data EnhancedVolcano StartedAt: 2023-10-15 16:41:34 -0400 (Sun, 15 Oct 2023) EndedAt: 2023-10-15 16:43:07 -0400 (Sun, 15 Oct 2023) EllapsedTime: 93.3 seconds RetCode: 0 Status: OK PackageFile: EnhancedVolcano_1.18.0.tar.gz PackageFileSize: 8.942 MiB