Package: EnhancedVolcano Version: 1.18.0 Command: chmod a+r EnhancedVolcano -R && F:\biocbuild\bbs-3.17-bioc\R\bin\R.exe CMD build --keep-empty-dirs --no-resave-data EnhancedVolcano StartedAt: 2023-10-15 18:55:34 -0400 (Sun, 15 Oct 2023) EndedAt: 2023-10-15 19:16:16 -0400 (Sun, 15 Oct 2023) EllapsedTime: 1242.0 seconds RetCode: 0 Status: OK PackageFile: EnhancedVolcano_1.18.0.tar.gz PackageFileSize: 6.153 MiB