Package: EnhancedVolcano Version: 1.18.0 Command: F:\biocbuild\bbs-3.17-bioc\R\bin\R.exe CMD INSTALL EnhancedVolcano StartedAt: 2023-10-15 16:03:20 -0400 (Sun, 15 Oct 2023) EndedAt: 2023-10-15 16:03:27 -0400 (Sun, 15 Oct 2023) EllapsedTime: 6.6 seconds RetCode: 0 Status: OK