Package: ExperimentHubData Version: 1.26.1 Command: /Library/Frameworks/R.framework/Resources/bin/R CMD INSTALL ExperimentHubData StartedAt: 2023-10-15 16:34:16 -0400 (Sun, 15 Oct 2023) EndedAt: 2023-10-15 16:36:06 -0400 (Sun, 15 Oct 2023) EllapsedTime: 110.2 seconds RetCode: 0 Status: OK