Package: ExperimentHubData Version: 1.26.1 Command: chmod a+r ExperimentHubData -R && F:\biocbuild\bbs-3.17-bioc\R\bin\R.exe CMD build --keep-empty-dirs --no-resave-data ExperimentHubData StartedAt: 2023-10-15 19:08:01 -0400 (Sun, 15 Oct 2023) EndedAt: 2023-10-15 19:08:45 -0400 (Sun, 15 Oct 2023) EllapsedTime: 44.5 seconds RetCode: 0 Status: OK PackageFile: ExperimentHubData_1.26.1.tar.gz PackageFileSize: 223 KiB