Package: FELLA Version: 1.20.0 Command: /Library/Frameworks/R.framework/Resources/bin/R CMD build --keep-empty-dirs --no-resave-data FELLA StartedAt: 2023-10-15 18:19:00 -0400 (Sun, 15 Oct 2023) EndedAt: 2023-10-15 18:59:00 -0400 (Sun, 15 Oct 2023) EllapsedTime: 2400.5 seconds RetCode: None Status: TIMEOUT PackageFile: None PackageFileSize: NA