Package: FELLA Version: 1.20.0 Command: /Library/Frameworks/R.framework/Resources/bin/R CMD check --install=check:FELLA.install-out.txt --library=/Library/Frameworks/R.framework/Resources/library --no-vignettes --timings FELLA_1.20.0.tar.gz StartedAt: 2023-09-13 01:52:10 -0400 (Wed, 13 Sep 2023) EndedAt: 2023-09-13 01:59:11 -0400 (Wed, 13 Sep 2023) EllapsedTime: 421.0 seconds RetCode: 0 Status: OK CheckDir: FELLA.Rcheck Warnings: 0