Package: FELLA Version: 1.20.0 Command: /home/biocbuild/bbs-3.17-bioc/R/bin/R CMD build --keep-empty-dirs --no-resave-data FELLA StartedAt: 2023-10-15 16:47:52 -0400 (Sun, 15 Oct 2023) EndedAt: 2023-10-15 17:16:49 -0400 (Sun, 15 Oct 2023) EllapsedTime: 1736.4 seconds RetCode: 0 Status: OK PackageFile: FELLA_1.20.0.tar.gz PackageFileSize: 4.034 MiB