Package: FELLA Version: 1.20.0 Command: F:\biocbuild\bbs-3.17-bioc\R\bin\R.exe CMD check --no-multiarch --install=check:FELLA.install-out.txt --library=F:\biocbuild\bbs-3.17-bioc\R\library --no-vignettes --timings FELLA_1.20.0.tar.gz StartedAt: 2023-10-16 02:09:26 -0400 (Mon, 16 Oct 2023) EndedAt: 2023-10-16 02:12:12 -0400 (Mon, 16 Oct 2023) EllapsedTime: 165.8 seconds RetCode: 0 Status: OK CheckDir: FELLA.Rcheck Warnings: 0