Package: FLAMES Version: 1.6.0 Command: /home/biocbuild/bbs-3.17-bioc/R/bin/R CMD build --keep-empty-dirs --no-resave-data FLAMES StartedAt: 2023-10-15 16:48:30 -0400 (Sun, 15 Oct 2023) EndedAt: 2023-10-15 16:53:14 -0400 (Sun, 15 Oct 2023) EllapsedTime: 284.5 seconds RetCode: 0 Status: OK PackageFile: FLAMES_1.6.0.tar.gz PackageFileSize: 2.974 MiB