Package: GA4GHshiny Version: 1.22.0 Command: /Library/Frameworks/R.framework/Resources/bin/R CMD build --keep-empty-dirs --no-resave-data GA4GHshiny StartedAt: 2023-10-15 18:25:03 -0400 (Sun, 15 Oct 2023) EndedAt: 2023-10-15 18:26:40 -0400 (Sun, 15 Oct 2023) EllapsedTime: 97.5 seconds RetCode: 0 Status: OK PackageFile: GA4GHshiny_1.22.0.tar.gz PackageFileSize: 298.6 KiB