Package: GBScleanR Version: 1.4.4 Command: /home/biocbuild/bbs-3.17-bioc/R/bin/R CMD build --keep-empty-dirs --no-resave-data GBScleanR StartedAt: 2023-10-15 16:52:09 -0400 (Sun, 15 Oct 2023) EndedAt: 2023-10-15 16:53:39 -0400 (Sun, 15 Oct 2023) EllapsedTime: 90.7 seconds RetCode: 0 Status: OK PackageFile: GBScleanR_1.4.4.tar.gz PackageFileSize: 1.696 MiB