Package: GEOquery Version: 2.68.0 Command: /Library/Frameworks/R.framework/Resources/bin/R CMD check --install=check:GEOquery.install-out.txt --library=/Library/Frameworks/R.framework/Resources/library --no-vignettes --timings GEOquery_2.68.0.tar.gz StartedAt: 2023-10-16 02:09:41 -0400 (Mon, 16 Oct 2023) EndedAt: 2023-10-16 02:15:56 -0400 (Mon, 16 Oct 2023) EllapsedTime: 375.2 seconds RetCode: 0 Status: OK CheckDir: GEOquery.Rcheck Warnings: 0