Package: GIGSEA Version: 1.18.0 Command: rm -rf GIGSEA.buildbin-libdir && mkdir GIGSEA.buildbin-libdir && F:\biocbuild\bbs-3.17-bioc\R\bin\R.exe CMD INSTALL --build --library=GIGSEA.buildbin-libdir GIGSEA_1.18.0.tar.gz StartedAt: 2023-10-16 08:52:47 -0400 (Mon, 16 Oct 2023) EndedAt: 2023-10-16 08:52:57 -0400 (Mon, 16 Oct 2023) EllapsedTime: 9.9 seconds RetCode: 0 Status: OK PackageFile: GIGSEA_1.18.0.zip PackageFileSize: 1.804 MiB