Package: GLAD Version: 2.64.0 Command: /home/biocbuild/bbs-3.17-bioc/R/bin/R CMD build --keep-empty-dirs --no-resave-data GLAD StartedAt: 2023-10-15 16:57:39 -0400 (Sun, 15 Oct 2023) EndedAt: 2023-10-15 16:57:56 -0400 (Sun, 15 Oct 2023) EllapsedTime: 16.5 seconds RetCode: 0 Status: OK PackageFile: GLAD_2.64.0.tar.gz PackageFileSize: 1.174 MiB