Package: GMRP Version: 1.28.0 Command: chmod a+r GMRP -R && F:\biocbuild\bbs-3.17-bioc\R\bin\R.exe CMD build --keep-empty-dirs --no-resave-data GMRP StartedAt: 2023-10-15 19:35:19 -0400 (Sun, 15 Oct 2023) EndedAt: 2023-10-15 19:35:43 -0400 (Sun, 15 Oct 2023) EllapsedTime: 24.1 seconds RetCode: 0 Status: OK PackageFile: GMRP_1.28.0.tar.gz PackageFileSize: 899.8 KiB