Package: GMRP Version: 1.28.0 Command: F:\biocbuild\bbs-3.17-bioc\R\bin\R.exe CMD check --no-multiarch --install=check:GMRP.install-out.txt --library=F:\biocbuild\bbs-3.17-bioc\R\library --no-vignettes --timings GMRP_1.28.0.tar.gz StartedAt: 2023-10-16 02:43:19 -0400 (Mon, 16 Oct 2023) EndedAt: 2023-10-16 02:44:34 -0400 (Mon, 16 Oct 2023) EllapsedTime: 75.3 seconds RetCode: 0 Status: WARNINGS CheckDir: GMRP.Rcheck Warnings: 1