Package: GMRP Version: 1.28.0 Command: F:\biocbuild\bbs-3.17-bioc\R\bin\R.exe CMD INSTALL GMRP StartedAt: 2023-10-15 15:57:24 -0400 (Sun, 15 Oct 2023) EndedAt: 2023-10-15 15:57:38 -0400 (Sun, 15 Oct 2023) EllapsedTime: 14.4 seconds RetCode: 0 Status: OK