Package: GOSemSim Version: 2.26.1 Command: /home/biocbuild/bbs-3.17-bioc/R/bin/R CMD build --keep-empty-dirs --no-resave-data GOSemSim StartedAt: 2023-10-15 16:59:03 -0400 (Sun, 15 Oct 2023) EndedAt: 2023-10-15 16:59:28 -0400 (Sun, 15 Oct 2023) EllapsedTime: 25.3 seconds RetCode: 0 Status: OK PackageFile: GOSemSim_2.26.1.tar.gz PackageFileSize: 592 KiB