Package: GOSemSim Version: 2.26.1 Command: rm -rf GOSemSim.buildbin-libdir && mkdir GOSemSim.buildbin-libdir && F:\biocbuild\bbs-3.17-bioc\R\bin\R.exe CMD INSTALL --build --library=GOSemSim.buildbin-libdir GOSemSim_2.26.1.tar.gz StartedAt: 2023-10-16 08:53:37 -0400 (Mon, 16 Oct 2023) EndedAt: 2023-10-16 08:54:11 -0400 (Mon, 16 Oct 2023) EllapsedTime: 34.3 seconds RetCode: 0 Status: OK PackageFile: GOSemSim_2.26.1.zip PackageFileSize: 1.208 MiB