Package: GOpro Version: 1.26.0 Command: F:\biocbuild\bbs-3.17-bioc\R\bin\R.exe CMD INSTALL GOpro StartedAt: 2023-10-15 16:06:52 -0400 (Sun, 15 Oct 2023) EndedAt: 2023-10-15 16:07:39 -0400 (Sun, 15 Oct 2023) EllapsedTime: 47.0 seconds RetCode: 0 Status: OK