Package: GOstats Version: 2.66.0 Command: /home/biocbuild/bbs-3.17-bioc/R/bin/R CMD build --keep-empty-dirs --no-resave-data GOstats StartedAt: 2023-10-15 16:59:45 -0400 (Sun, 15 Oct 2023) EndedAt: 2023-10-15 17:04:16 -0400 (Sun, 15 Oct 2023) EllapsedTime: 270.5 seconds RetCode: 0 Status: OK PackageFile: GOstats_2.66.0.tar.gz PackageFileSize: 2.768 MiB