Package: GRaNIE Version: 1.4.1 Command: /home/biocbuild/bbs-3.17-bioc/R/bin/R CMD build --keep-empty-dirs --no-resave-data GRaNIE StartedAt: 2023-10-15 17:00:28 -0400 (Sun, 15 Oct 2023) EndedAt: 2023-10-15 17:04:31 -0400 (Sun, 15 Oct 2023) EllapsedTime: 242.2 seconds RetCode: 0 Status: OK PackageFile: GRaNIE_1.4.1.tar.gz PackageFileSize: 11.17 MiB